Package: RProtoBufLib Version: 2.19.0 Command: /Library/Frameworks/R.framework/Resources/bin/R CMD INSTALL RProtoBufLib StartedAt: 2025-02-20 15:00:55 -0500 (Thu, 20 Feb 2025) EndedAt: 2025-02-20 15:02:22 -0500 (Thu, 20 Feb 2025) EllapsedTime: 87.4 seconds RetCode: 0 Status: OK