Package: RProtoBufLib Version: 2.19.0 Command: /Library/Frameworks/R.framework/Resources/bin/R CMD check --install=check:RProtoBufLib.install-out.txt --library=/Library/Frameworks/R.framework/Resources/library --no-vignettes --timings RProtoBufLib_2.19.0.tar.gz StartedAt: 2025-02-20 21:07:32 -0500 (Thu, 20 Feb 2025) EndedAt: 2025-02-20 21:07:43 -0500 (Thu, 20 Feb 2025) EllapsedTime: 11.1 seconds RetCode: 0 Status: WARNINGS CheckDir: RProtoBufLib.Rcheck Warnings: 2