Package: RProtoBufLib Version: 2.19.0 Command: /Library/Frameworks/R.framework/Resources/bin/R CMD build --keep-empty-dirs --no-resave-data RProtoBufLib StartedAt: 2025-02-20 17:27:05 -0500 (Thu, 20 Feb 2025) EndedAt: 2025-02-20 17:28:36 -0500 (Thu, 20 Feb 2025) EllapsedTime: 91.1 seconds RetCode: 0 Status: OK PackageFile: RProtoBufLib_2.19.0.tar.gz PackageFileSize: 2.796 MiB