Package: RPA Version: 1.63.0 Command: E:\biocbuild\bbs-3.21-bioc\R\bin\R.exe CMD check --no-multiarch --install=check:RPA.install-out.txt --library=E:\biocbuild\bbs-3.21-bioc\R\library --no-vignettes --timings RPA_1.63.0.tar.gz StartedAt: 2025-02-21 05:09:47 -0500 (Fri, 21 Feb 2025) EndedAt: 2025-02-21 05:12:37 -0500 (Fri, 21 Feb 2025) EllapsedTime: 170.1 seconds RetCode: 0 Status: OK CheckDir: RPA.Rcheck Warnings: 0