Package: RPA Version: 1.63.0 Command: chmod a+r RPA -R && E:\biocbuild\bbs-3.21-bioc\R\bin\R.exe CMD build --keep-empty-dirs --no-resave-data RPA StartedAt: 2025-02-20 21:23:26 -0500 (Thu, 20 Feb 2025) EndedAt: 2025-02-20 21:24:11 -0500 (Thu, 20 Feb 2025) EllapsedTime: 44.4 seconds RetCode: 0 Status: OK PackageFile: RPA_1.63.0.tar.gz PackageFileSize: 260.6 KiB