Package: RPA Version: 1.63.0 Command: rm -rf RPA.buildbin-libdir && mkdir RPA.buildbin-libdir && E:\biocbuild\bbs-3.21-bioc\R\bin\R.exe CMD INSTALL --build --library=RPA.buildbin-libdir RPA_1.63.0.tar.gz StartedAt: 2025-02-21 08:57:42 -0500 (Fri, 21 Feb 2025) EndedAt: 2025-02-21 08:58:17 -0500 (Fri, 21 Feb 2025) EllapsedTime: 35.1 seconds RetCode: 0 Status: OK PackageFile: RPA_1.63.0.zip PackageFileSize: 393.3 KiB