Package: RPA Version: 1.63.0 Command: /home/biocbuild/bbs-3.21-bioc/R/bin/R CMD INSTALL RPA StartedAt: 2025-02-21 15:59:31 -0500 (Fri, 21 Feb 2025) EndedAt: 2025-02-21 15:59:50 -0500 (Fri, 21 Feb 2025) EllapsedTime: 18.9 seconds RetCode: 0 Status: OK