Package: RPA Version: 1.63.0 Command: /home/biocbuild/R/R/bin/R CMD INSTALL RPA StartedAt: 2025-01-29 20:22:37 -0000 (Wed, 29 Jan 2025) EndedAt: 2025-01-29 20:23:05 -0000 (Wed, 29 Jan 2025) EllapsedTime: 27.7 seconds RetCode: 0 Status: OK