Package: RPA Version: 1.63.0 Command: /home/biocbuild/R/R/bin/R CMD build --keep-empty-dirs --no-resave-data RPA StartedAt: 2025-01-29 01:50:44 -0000 (Wed, 29 Jan 2025) EndedAt: 2025-01-29 01:51:14 -0000 (Wed, 29 Jan 2025) EllapsedTime: 30.0 seconds RetCode: 0 Status: OK PackageFile: RPA_1.63.0.tar.gz PackageFileSize: 284.7 KiB