Package: RPA Version: 1.63.0 Command: /Library/Frameworks/R.framework/Resources/bin/R CMD INSTALL RPA StartedAt: 2025-02-20 15:22:42 -0500 (Thu, 20 Feb 2025) EndedAt: 2025-02-20 15:22:49 -0500 (Thu, 20 Feb 2025) EllapsedTime: 7.4 seconds RetCode: 0 Status: OK