Package: ROntoTools Version: 2.35.0 Command: chmod a+r ROntoTools -R && E:\biocbuild\bbs-3.21-bioc\R\bin\R.exe CMD build --keep-empty-dirs --no-resave-data ROntoTools StartedAt: 2025-02-20 21:22:39 -0500 (Thu, 20 Feb 2025) EndedAt: 2025-02-20 21:23:39 -0500 (Thu, 20 Feb 2025) EllapsedTime: 59.9 seconds RetCode: 0 Status: OK PackageFile: ROntoTools_2.35.0.tar.gz PackageFileSize: 1.357 MiB