############################################################################## ############################################################################## ### ### Running command: ### ### /home/biocbuild/bbs-3.21-bioc/R/bin/R CMD build --keep-empty-dirs --no-resave-data ROntoTools ### ############################################################################## ############################################################################## * checking for file ‘ROntoTools/DESCRIPTION’ ... OK * preparing ‘ROntoTools’: * checking DESCRIPTION meta-information ... OK * installing the package to build vignettes ----------------------------------- ERROR: dependencies ‘KEGGgraph’, ‘Rgraphviz’ are not available for package ‘ROntoTools’ Perhaps try a variation of: install.packages(c('KEGGgraph', 'Rgraphviz')) * removing ‘/tmp/RtmpRVMjcw/Rinst216ad9270e80da/ROntoTools’ ----------------------------------- ERROR: package installation failed