Package: ROntoTools Version: 2.35.0 Command: /Library/Frameworks/R.framework/Resources/bin/R CMD check --install=check:ROntoTools.install-out.txt --library=/Library/Frameworks/R.framework/Resources/library --no-vignettes --timings ROntoTools_2.35.0.tar.gz StartedAt: 2025-02-20 22:52:11 -0500 (Thu, 20 Feb 2025) EndedAt: 2025-02-20 22:55:04 -0500 (Thu, 20 Feb 2025) EllapsedTime: 173.5 seconds RetCode: 0 Status: WARNINGS CheckDir: ROntoTools.Rcheck Warnings: 1