Package: ROntoTools Version: 2.35.0 Command: rm -rf ROntoTools.buildbin-libdir && mkdir ROntoTools.buildbin-libdir && /Users/biocbuild/BBS/utils/build-universal.sh ROntoTools_2.35.0.tar.gz /Library/Frameworks/R.framework/Resources/bin/R ROntoTools.buildbin-libdir StartedAt: 2025-02-19 22:36:13 -0500 (Wed, 19 Feb 2025) EndedAt: 2025-02-19 22:36:19 -0500 (Wed, 19 Feb 2025) EllapsedTime: 6.1 seconds RetCode: 0 Status: OK PackageFile: ROntoTools_2.35.0.tgz PackageFileSize: 1.604 MiB