Package: ROTS Version: 1.99.11 Command: E:\biocbuild\bbs-3.21-bioc\R\bin\R.exe CMD INSTALL ROTS StartedAt: 2025-02-18 15:37:00 -0500 (Tue, 18 Feb 2025) EndedAt: 2025-02-18 15:37:28 -0500 (Tue, 18 Feb 2025) EllapsedTime: 27.8 seconds RetCode: 0 Status: OK