Package: ROTS Version: 1.99.11 Command: /Library/Frameworks/R.framework/Resources/bin/R CMD build --keep-empty-dirs --no-resave-data ROTS StartedAt: 2025-02-18 18:01:07 -0500 (Tue, 18 Feb 2025) EndedAt: 2025-02-18 18:01:39 -0500 (Tue, 18 Feb 2025) EllapsedTime: 32.0 seconds RetCode: 0 Status: OK PackageFile: ROTS_1.99.11.tar.gz PackageFileSize: 458.9 KiB