Package: ROSeq Version: 1.19.0 Command: rm -rf ROSeq.buildbin-libdir && mkdir ROSeq.buildbin-libdir && E:\biocbuild\bbs-3.21-bioc\R\bin\R.exe CMD INSTALL --build --library=ROSeq.buildbin-libdir ROSeq_1.19.0.tar.gz StartedAt: 2025-02-20 08:37:46 -0500 (Thu, 20 Feb 2025) EndedAt: 2025-02-20 08:38:01 -0500 (Thu, 20 Feb 2025) EllapsedTime: 15.0 seconds RetCode: 0 Status: OK PackageFile: ROSeq_1.19.0.zip PackageFileSize: 7.314 MiB