Package: ROSeq Version: 1.19.0 Command: /home/biocbuild/bbs-3.21-bioc/R/bin/R CMD check --install=check:ROSeq.install-out.txt --library=/home/biocbuild/bbs-3.21-bioc/R/site-library --timings ROSeq_1.19.0.tar.gz StartedAt: 2025-02-21 01:20:51 -0500 (Fri, 21 Feb 2025) EndedAt: 2025-02-21 01:29:00 -0500 (Fri, 21 Feb 2025) EllapsedTime: 488.7 seconds RetCode: 0 Status: WARNINGS CheckDir: ROSeq.Rcheck Warnings: 1