Package: ROSeq Version: 1.19.0 Command: /home/biocbuild/bbs-3.21-bioc/R/bin/R CMD build --keep-empty-dirs --no-resave-data ROSeq StartedAt: 2025-02-20 19:01:57 -0500 (Thu, 20 Feb 2025) EndedAt: 2025-02-20 19:05:37 -0500 (Thu, 20 Feb 2025) EllapsedTime: 220.6 seconds RetCode: 0 Status: OK PackageFile: ROSeq_1.19.0.tar.gz PackageFileSize: 4.19 MiB