Package: ROSeq Version: 1.19.0 Command: /Library/Frameworks/R.framework/Resources/bin/R CMD INSTALL ROSeq StartedAt: 2025-02-20 15:07:15 -0500 (Thu, 20 Feb 2025) EndedAt: 2025-02-20 15:07:44 -0500 (Thu, 20 Feb 2025) EllapsedTime: 28.6 seconds RetCode: 0 Status: OK