Package: ROSeq Version: 1.19.0 Command: /Library/Frameworks/R.framework/Resources/bin/R CMD check --install=check:ROSeq.install-out.txt --library=/Library/Frameworks/R.framework/Resources/library --no-vignettes --timings ROSeq_1.19.0.tar.gz StartedAt: 2025-02-20 22:52:14 -0500 (Thu, 20 Feb 2025) EndedAt: 2025-02-20 22:57:11 -0500 (Thu, 20 Feb 2025) EllapsedTime: 296.6 seconds RetCode: 0 Status: WARNINGS CheckDir: ROSeq.Rcheck Warnings: 1