Package: ROCpAI Version: 1.19.0 Command: E:\biocbuild\bbs-3.21-bioc\R\bin\R.exe CMD INSTALL ROCpAI StartedAt: 2025-02-19 16:27:50 -0500 (Wed, 19 Feb 2025) EndedAt: 2025-02-19 16:28:15 -0500 (Wed, 19 Feb 2025) EllapsedTime: 25.0 seconds RetCode: 0 Status: OK