Package: ROCpAI Version: 1.19.0 Command: /Library/Frameworks/R.framework/Resources/bin/R CMD check --install=check:ROCpAI.install-out.txt --library=/Library/Frameworks/R.framework/Resources/library --no-vignettes --timings ROCpAI_1.19.0.tar.gz StartedAt: 2025-02-20 22:51:33 -0500 (Thu, 20 Feb 2025) EndedAt: 2025-02-20 22:54:07 -0500 (Thu, 20 Feb 2025) EllapsedTime: 154.0 seconds RetCode: 0 Status: OK CheckDir: ROCpAI.Rcheck Warnings: 0