Package: ROCpAI Version: 1.19.0 Command: /Library/Frameworks/R.framework/Resources/bin/R CMD build --keep-empty-dirs --no-resave-data ROCpAI StartedAt: 2025-02-20 18:02:28 -0500 (Thu, 20 Feb 2025) EndedAt: 2025-02-20 18:03:06 -0500 (Thu, 20 Feb 2025) EllapsedTime: 37.7 seconds RetCode: 0 Status: OK PackageFile: ROCpAI_1.19.0.tar.gz PackageFileSize: 427 KiB