Package: ROCpAI Version: 1.19.0 Command: /Library/Frameworks/R.framework/Resources/bin/R CMD INSTALL ROCpAI StartedAt: 2025-02-19 15:19:32 -0500 (Wed, 19 Feb 2025) EndedAt: 2025-02-19 15:19:40 -0500 (Wed, 19 Feb 2025) EllapsedTime: 8.2 seconds RetCode: 0 Status: OK