Package: ROC Version: 1.83.0 Command: /home/biocbuild/bbs-3.21-bioc/R/bin/R CMD INSTALL ROC StartedAt: 2025-02-17 15:05:56 -0500 (Mon, 17 Feb 2025) EndedAt: 2025-02-17 15:06:10 -0500 (Mon, 17 Feb 2025) EllapsedTime: 14.0 seconds RetCode: 0 Status: OK