Package: ROC Version: 1.83.0 Command: /Library/Frameworks/R.framework/Resources/bin/R CMD build --keep-empty-dirs --no-resave-data ROC StartedAt: 2025-02-18 18:00:29 -0500 (Tue, 18 Feb 2025) EndedAt: 2025-02-18 18:00:37 -0500 (Tue, 18 Feb 2025) EllapsedTime: 8.0 seconds RetCode: 0 Status: OK PackageFile: ROC_1.83.0.tar.gz PackageFileSize: 251.1 KiB