Package: RNAseqCovarImpute Version: 1.5.0 Command: rm -rf RNAseqCovarImpute.buildbin-libdir && mkdir RNAseqCovarImpute.buildbin-libdir && /Users/biocbuild/BBS/utils/build-universal.sh RNAseqCovarImpute_1.5.0.tar.gz /Library/Frameworks/R.framework/Resources/bin/R RNAseqCovarImpute.buildbin-libdir StartedAt: 2025-02-21 00:49:41 -0500 (Fri, 21 Feb 2025) EndedAt: 2025-02-21 00:49:58 -0500 (Fri, 21 Feb 2025) EllapsedTime: 17.3 seconds RetCode: 0 Status: OK PackageFile: RNAseqCovarImpute_1.5.0.tgz PackageFileSize: 799.7 KiB