Package: RNAseqCovarImpute Version: 1.5.0 Command: /Library/Frameworks/R.framework/Resources/bin/R CMD INSTALL RNAseqCovarImpute StartedAt: 2025-02-19 15:21:18 -0500 (Wed, 19 Feb 2025) EndedAt: 2025-02-19 15:21:22 -0500 (Wed, 19 Feb 2025) EllapsedTime: 4.3 seconds RetCode: 0 Status: OK