Package: RNAsense Version: 1.21.0 Command: E:\biocbuild\bbs-3.21-bioc\R\bin\R.exe CMD INSTALL RNAsense StartedAt: 2025-02-17 16:11:16 -0500 (Mon, 17 Feb 2025) EndedAt: 2025-02-17 16:11:45 -0500 (Mon, 17 Feb 2025) EllapsedTime: 28.8 seconds RetCode: 0 Status: OK