Package: RNAsense Version: 1.21.0 Command: /Library/Frameworks/R.framework/Resources/bin/R CMD check --install=check:RNAsense.install-out.txt --library=/Library/Frameworks/R.framework/Resources/library --no-vignettes --timings RNAsense_1.21.0.tar.gz StartedAt: 2025-02-17 21:04:47 -0500 (Mon, 17 Feb 2025) EndedAt: 2025-02-17 21:08:55 -0500 (Mon, 17 Feb 2025) EllapsedTime: 248.1 seconds RetCode: 0 Status: WARNINGS CheckDir: RNAsense.Rcheck Warnings: 1