Package: RNAsense Version: 1.21.0 Command: rm -rf RNAsense.buildbin-libdir && mkdir RNAsense.buildbin-libdir && /Users/biocbuild/BBS/utils/build-universal.sh RNAsense_1.21.0.tar.gz /Library/Frameworks/R.framework/Resources/bin/R RNAsense.buildbin-libdir StartedAt: 2025-02-17 22:31:17 -0500 (Mon, 17 Feb 2025) EndedAt: 2025-02-17 22:31:28 -0500 (Mon, 17 Feb 2025) EllapsedTime: 10.2 seconds RetCode: 0 Status: OK PackageFile: RNAsense_1.21.0.tgz PackageFileSize: 949.6 KiB