Package: RNAmodR Version: 1.21.0 Command: E:\biocbuild\bbs-3.21-bioc\R\bin\R.exe CMD INSTALL RNAmodR StartedAt: 2025-02-19 16:20:35 -0500 (Wed, 19 Feb 2025) EndedAt: 2025-02-19 16:22:33 -0500 (Wed, 19 Feb 2025) EllapsedTime: 117.4 seconds RetCode: 0 Status: OK