Package: RNAmodR Version: 1.21.0 Command: /home/biocbuild/bbs-3.21-bioc/R/bin/R CMD build --keep-empty-dirs --no-resave-data RNAmodR StartedAt: 2025-02-19 18:55:47 -0500 (Wed, 19 Feb 2025) EndedAt: 2025-02-19 18:58:44 -0500 (Wed, 19 Feb 2025) EllapsedTime: 177.2 seconds RetCode: 0 Status: OK PackageFile: RNAmodR_1.21.0.tar.gz PackageFileSize: 1.533 MiB