Package: RNAmodR Version: 1.21.0 Command: /Library/Frameworks/R.framework/Resources/bin/R CMD check --install=check:RNAmodR.install-out.txt --library=/Library/Frameworks/R.framework/Resources/library --no-vignettes --timings RNAmodR_1.21.0.tar.gz StartedAt: 2025-02-19 22:49:31 -0500 (Wed, 19 Feb 2025) EndedAt: 2025-02-19 22:59:50 -0500 (Wed, 19 Feb 2025) EllapsedTime: 618.9 seconds RetCode: 0 Status: OK CheckDir: RNAmodR.Rcheck Warnings: 0