Package: RNAmodR.RiboMethSeq Version: 1.22.0 Command: /Library/Frameworks/R.framework/Resources/bin/R CMD INSTALL RNAmodR.RiboMethSeq StartedAt: 2025-10-02 17:43:16 -0400 (Thu, 02 Oct 2025) EndedAt: 2025-10-02 17:44:27 -0400 (Thu, 02 Oct 2025) EllapsedTime: 70.2 seconds RetCode: 0 Status: OK