Package: RNAmodR.RiboMethSeq Version: 1.22.0 Command: /Library/Frameworks/R.framework/Resources/bin/R CMD build --keep-empty-dirs --no-resave-data RNAmodR.RiboMethSeq StartedAt: 2025-09-30 07:58:52 -0400 (Tue, 30 Sep 2025) EndedAt: 2025-09-30 08:01:17 -0400 (Tue, 30 Sep 2025) EllapsedTime: 145.2 seconds RetCode: 0 Status: OK PackageFile: RNAmodR.RiboMethSeq_1.22.0.tar.gz PackageFileSize: 637.9 KiB