Package: RNAmodR.ML Version: 1.21.0 Command: E:\biocbuild\bbs-3.21-bioc\R\bin\R.exe CMD INSTALL RNAmodR.ML StartedAt: 2025-02-19 16:22:35 -0500 (Wed, 19 Feb 2025) EndedAt: 2025-02-19 16:23:44 -0500 (Wed, 19 Feb 2025) EllapsedTime: 69.1 seconds RetCode: 0 Status: OK