Package: RNAmodR.ML Version: 1.21.0 Command: /home/biocbuild/bbs-3.21-bioc/R/bin/R CMD INSTALL RNAmodR.ML StartedAt: 2025-02-20 16:04:39 -0500 (Thu, 20 Feb 2025) EndedAt: 2025-02-20 16:05:37 -0500 (Thu, 20 Feb 2025) EllapsedTime: 57.8 seconds RetCode: 0 Status: OK