Package: RNAmodR.ML Version: 1.21.0 Command: /home/biocbuild/R/R/bin/R CMD INSTALL RNAmodR.ML StartedAt: 2025-01-29 20:11:43 -0000 (Wed, 29 Jan 2025) EndedAt: 2025-01-29 20:13:06 -0000 (Wed, 29 Jan 2025) EllapsedTime: 83.0 seconds RetCode: 0 Status: OK