Package: RNAmodR.ML Version: 1.21.0 Command: /Library/Frameworks/R.framework/Resources/bin/R CMD check --install=check:RNAmodR.ML.install-out.txt --library=/Library/Frameworks/R.framework/Resources/library --no-vignettes --timings RNAmodR.ML_1.21.0.tar.gz StartedAt: 2025-02-19 21:08:04 -0500 (Wed, 19 Feb 2025) EndedAt: 2025-02-19 21:10:57 -0500 (Wed, 19 Feb 2025) EllapsedTime: 173.0 seconds RetCode: 0 Status: OK CheckDir: RNAmodR.ML.Rcheck Warnings: 0