Package: RNAmodR.AlkAnilineSeq Version: 1.21.0 Command: E:\biocbuild\bbs-3.21-bioc\R\bin\R.exe CMD check --no-multiarch --install=check:RNAmodR.AlkAnilineSeq.install-out.txt --library=E:\biocbuild\bbs-3.21-bioc\R\library --no-vignettes --timings RNAmodR.AlkAnilineSeq_1.21.0.tar.gz StartedAt: 2025-02-22 05:31:34 -0500 (Sat, 22 Feb 2025) EndedAt: 2025-02-22 05:40:35 -0500 (Sat, 22 Feb 2025) EllapsedTime: 541.1 seconds RetCode: 0 Status: OK CheckDir: RNAmodR.AlkAnilineSeq.Rcheck Warnings: 0