Package: RNAmodR.AlkAnilineSeq Version: 1.21.0 Command: rm -rf RNAmodR.AlkAnilineSeq.buildbin-libdir && mkdir RNAmodR.AlkAnilineSeq.buildbin-libdir && /Users/biocbuild/BBS/utils/build-universal.sh RNAmodR.AlkAnilineSeq_1.21.0.tar.gz /Library/Frameworks/R.framework/Resources/bin/R RNAmodR.AlkAnilineSeq.buildbin-libdir StartedAt: 2025-02-22 00:50:31 -0500 (Sat, 22 Feb 2025) EndedAt: 2025-02-22 00:51:47 -0500 (Sat, 22 Feb 2025) EllapsedTime: 76.0 seconds RetCode: 0 Status: OK PackageFile: RNAmodR.AlkAnilineSeq_1.21.0.tgz PackageFileSize: 1.11 MiB