Package: RNAdecay Version: 1.27.0 Command: E:\biocbuild\bbs-3.21-bioc\R\bin\R.exe CMD INSTALL RNAdecay StartedAt: 2025-02-21 16:09:05 -0500 (Fri, 21 Feb 2025) EndedAt: 2025-02-21 16:15:19 -0500 (Fri, 21 Feb 2025) EllapsedTime: 374.2 seconds RetCode: 0 Status: OK