Package: RNAdecay Version: 1.27.0 Command: /home/biocbuild/bbs-3.21-bioc/R/bin/R CMD INSTALL RNAdecay StartedAt: 2025-02-20 15:13:57 -0500 (Thu, 20 Feb 2025) EndedAt: 2025-02-20 15:21:17 -0500 (Thu, 20 Feb 2025) EllapsedTime: 439.8 seconds RetCode: 0 Status: OK