Package: RNAdecay Version: 1.27.0 Command: /home/biocbuild/bbs-3.21-bioc/R/bin/R CMD build --keep-empty-dirs --no-resave-data RNAdecay StartedAt: 2025-02-20 18:59:38 -0500 (Thu, 20 Feb 2025) EndedAt: 2025-02-20 19:08:18 -0500 (Thu, 20 Feb 2025) EllapsedTime: 520.1 seconds RetCode: 0 Status: OK PackageFile: RNAdecay_1.27.0.tar.gz PackageFileSize: 2.707 MiB