Package: RNAdecay Version: 1.27.0 Command: /Library/Frameworks/R.framework/Resources/bin/R CMD INSTALL RNAdecay StartedAt: 2025-02-20 15:08:10 -0500 (Thu, 20 Feb 2025) EndedAt: 2025-02-20 15:15:44 -0500 (Thu, 20 Feb 2025) EllapsedTime: 454.6 seconds RetCode: 0 Status: OK