Package: RNAdecay Version: 1.27.0 Command: rm -rf RNAdecay.buildbin-libdir && mkdir RNAdecay.buildbin-libdir && /Users/biocbuild/BBS/utils/build-universal.sh RNAdecay_1.27.0.tar.gz /Library/Frameworks/R.framework/Resources/bin/R RNAdecay.buildbin-libdir StartedAt: 2025-02-21 00:49:29 -0500 (Fri, 21 Feb 2025) EndedAt: 2025-02-21 00:57:44 -0500 (Fri, 21 Feb 2025) EllapsedTime: 494.1 seconds RetCode: 0 Status: OK PackageFile: RNAdecay_1.27.0.tgz PackageFileSize: 5.918 MiB