Package: RNASeqPower Version: 1.47.0 Command: E:\biocbuild\bbs-3.21-bioc\R\bin\R.exe CMD check --no-multiarch --install=check:RNASeqPower.install-out.txt --library=E:\biocbuild\bbs-3.21-bioc\R\library --no-vignettes --timings RNASeqPower_1.47.0.tar.gz StartedAt: 2025-02-21 05:06:16 -0500 (Fri, 21 Feb 2025) EndedAt: 2025-02-21 05:06:42 -0500 (Fri, 21 Feb 2025) EllapsedTime: 25.4 seconds RetCode: 0 Status: OK CheckDir: RNASeqPower.Rcheck Warnings: 0