Package: RNASeqPower Version: 1.47.0 Command: chmod a+r RNASeqPower -R && E:\biocbuild\bbs-3.21-bioc\R\bin\R.exe CMD build --keep-empty-dirs --no-resave-data RNASeqPower StartedAt: 2025-02-20 21:20:49 -0500 (Thu, 20 Feb 2025) EndedAt: 2025-02-20 21:21:01 -0500 (Thu, 20 Feb 2025) EllapsedTime: 12.5 seconds RetCode: 0 Status: OK PackageFile: RNASeqPower_1.47.0.tar.gz PackageFileSize: 110.8 KiB